BEGIN:VCALENDAR
VERSION:2.0
PRODID:-//wp-events-plugin.com//7.2.3.1//EN
TZID:America/New_York
X-WR-TIMEZONE:America/New_York
BEGIN:VEVENT
UID:0-310@inside.wooster.edu
DTSTART;TZID=America/New_York:20250811T093000
DTEND;TZID=America/New_York:20250811T110000
DTSTAMP:20250808T122906Z
URL:https://inside.wooster.edu/technology/events/ai-wooster-and-you/
SUMMARY:AI\, Wooster\, and You
DESCRIPTION:A workshop aimed at faculty to help them get a sense of what is
  happening with AI and what they should be doing to prepare themselves and
  their courses.\nWorkshop Resources\n\n 	Copilot\n 	Wooster Copilot Course
  Design Assistant\n 	Course AI policy worksheet\n 	AI Assignment Audit wor
 ksheet\n\nPresentation\n\n 	AI\, Wooster\, and You\n
ATTACH;FMTTYPE=image/jpeg:https://inside.wooster.edu/technology/wp-content
 /uploads/sites/83/2025/07/ai-wooster-you.png
CATEGORIES:AI,in-person,staff-led,Workshop
LOCATION:Andrews Library CoRE Cube\, Andrews Library\, Wooster\, Ohio\, Uni
 ted States
GEO:40.8050565;-81.93514299999998
X-APPLE-STRUCTURED-LOCATION;VALUE=URI;X-ADDRESS=Andrews Library\, Wooster\,
  Ohio\, United States;X-APPLE-RADIUS=100;X-TITLE=Andrews Library CoRE Cube
 :geo:40.8050565,-81.93514299999998
END:VEVENT
BEGIN:VTIMEZONE
TZID:America/New_York
X-LIC-LOCATION:America/New_York
BEGIN:DAYLIGHT
DTSTART:20250309T030000
TZOFFSETFROM:-0500
TZOFFSETTO:-0400
TZNAME:EDT
END:DAYLIGHT
END:VTIMEZONE
END:VCALENDAR