BEGIN:VCALENDAR
VERSION:2.0
PRODID:-//wp-events-plugin.com//7.2.3.1//EN
TZID:America/New_York
X-WR-TIMEZONE:America/New_York
BEGIN:VEVENT
UID:0-301@inside.wooster.edu
DTSTART;TZID=America/New_York:20250210T150000
DTEND;TZID=America/New_York:20250210T160000
DTSTAMP:20250131T202943Z
URL:https://inside.wooster.edu/technology/events/blender-basics-3d-modelin
 g-and-printing/
SUMMARY:Blender Basics: 3D modeling and Printing
DESCRIPTION:Learn how to create a small simple 3D model of a gift box! Towa
 rd the end of the workshop\, students will be shown how to set up and 3D p
 rint their creations.
ATTACH;FMTTYPE=image/jpeg:https://inside.wooster.edu/technology/wp-content
 /uploads/sites/83/2025/01/Untitled-design-4.png
CATEGORIES:3D,Blender,in-person,student-led,Workshop
LOCATION:Timken Science Library\, 410 E. University St.\, Wooster\, OH\, 44
 691\, United States
GEO:40.80994099999999;-81.9383406
X-APPLE-STRUCTURED-LOCATION;VALUE=URI;X-ADDRESS=410 E. University St.\, Woo
 ster\, OH\, 44691\, United States;X-APPLE-RADIUS=100;X-TITLE=Timken Scienc
 e Library:geo:40.80994099999999,-81.9383406
END:VEVENT
BEGIN:VTIMEZONE
TZID:America/New_York
X-LIC-LOCATION:America/New_York
BEGIN:STANDARD
DTSTART:20241103T010000
TZOFFSETFROM:-0400
TZOFFSETTO:-0500
TZNAME:EST
END:STANDARD
END:VTIMEZONE
END:VCALENDAR