BEGIN:VCALENDAR
VERSION:2.0
PRODID:-//wp-events-plugin.com//7.2.3.1//EN
TZID:America/New_York
X-WR-TIMEZONE:America/New_York
BEGIN:VEVENT
UID:0-279@inside.wooster.edu
DTSTART;TZID=America/New_York:20240411T160000
DTEND;TZID=America/New_York:20240411T170000
DTSTAMP:20231130T210241Z
URL:https://inside.wooster.edu/technology/events/introduction-to-full-site
 -editing-in-wordpress/
SUMMARY:Introduction to Full Site Editing in WordPress
DESCRIPTION:Learn how to use full site editing in WordPress and make custom
  themes
ATTACH;FMTTYPE=image/jpeg:https://inside.wooster.edu/technology/wp-content
 /uploads/sites/83/2018/08/wordpress.png
CATEGORIES:student-led,WordPress (Voices, Discover, Inside),Workshop
LOCATION:Andrews Library CoRE Cube\, Andrews Library\, Wooster\, Ohio\, Uni
 ted States
GEO:40.8050565;-81.93514299999998
X-APPLE-STRUCTURED-LOCATION;VALUE=URI;X-ADDRESS=Andrews Library\, Wooster\,
  Ohio\, United States;X-APPLE-RADIUS=100;X-TITLE=Andrews Library CoRE Cube
 :geo:40.8050565,-81.93514299999998
END:VEVENT
BEGIN:VTIMEZONE
TZID:America/New_York
X-LIC-LOCATION:America/New_York
BEGIN:DAYLIGHT
DTSTART:20240310T030000
TZOFFSETFROM:-0500
TZOFFSETTO:-0400
TZNAME:EDT
END:DAYLIGHT
END:VTIMEZONE
END:VCALENDAR