BEGIN:VCALENDAR
VERSION:2.0
PRODID:-//wp-events-plugin.com//7.2.3.1//EN
TZID:America/New_York
X-WR-TIMEZONE:America/New_York
BEGIN:VEVENT
UID:0-278@inside.wooster.edu
DTSTART;TZID=America/New_York:20240401T160000
DTEND;TZID=America/New_York:20240401T170000
DTSTAMP:20240220T190557Z
URL:https://inside.wooster.edu/technology/events/notion-for-planning-and-n
 otetaking/
SUMMARY:Notion for Planning and Notetaking
DESCRIPTION:Learn how to make effective calendars\, academic plans\, and op
 timized notes using Notion\nFor all those interested in attending the Noti
 on Workshop on April 1st\, here is the agenda for the event.\n\n\n\nhttps:
 //livewooster.sharepoint.com/:w:/s/EdTechSTA/EX7CWFFi_9JCu3v3opwh3ukBeFaNw
 r0agQBfgLuhEq4uDg?e=3Molr2\n\n\n\n&nbsp\;\n
ATTACH;FMTTYPE=image/jpeg:https://inside.wooster.edu/technology/wp-content
 /uploads/sites/83/2023/11/Notion_app_logo.png
CATEGORIES:student-led,Workshop
LOCATION:Andrews Library CoRE Cube\, Andrews Library\, Wooster\, Ohio\, Uni
 ted States
GEO:40.8050565;-81.93514299999998
X-APPLE-STRUCTURED-LOCATION;VALUE=URI;X-ADDRESS=Andrews Library\, Wooster\,
  Ohio\, United States;X-APPLE-RADIUS=100;X-TITLE=Andrews Library CoRE Cube
 :geo:40.8050565,-81.93514299999998
END:VEVENT
BEGIN:VTIMEZONE
TZID:America/New_York
X-LIC-LOCATION:America/New_York
BEGIN:DAYLIGHT
DTSTART:20240310T030000
TZOFFSETFROM:-0500
TZOFFSETTO:-0400
TZNAME:EDT
END:DAYLIGHT
END:VTIMEZONE
END:VCALENDAR