BEGIN:VCALENDAR
VERSION:2.0
PRODID:-//wp-events-plugin.com//7.2.3.1//EN
TZID:America/New_York
X-WR-TIMEZONE:America/New_York
BEGIN:VEVENT
UID:0-323@inside.wooster.edu
DTSTART;TZID=America/New_York:20260113T130000
DTEND;TZID=America/New_York:20260113T140000
DTSTAMP:20251201T183618Z
URL:https://inside.wooster.edu/technology/events/student-friendly-course-p
 age-moodle/
SUMMARY:Building a Student-Friendly Course Page in Moodle
DESCRIPTION:A workshop for faculty and instructors:\nJoin this hands-on ses
 sion to learn how to create a clean\, navigable Moodle course that support
 s student success. We’ll cover course format options\, communication t
 ools\, attendance tracking\, assignments\, activity completion\, and quick
  gradebook setup. Plus\, discover tips for organizing resources\, linking 
 OneDrive files\, and improving accessibility. Build a course that works f
 or you and your students. 
ATTACH;FMTTYPE=image/jpeg:https://inside.wooster.edu/technology/wp-content
 /uploads/sites/83/2023/07/Untitled-design-45-e1689689186291.png
CATEGORIES:in-person,Moodle,staff-led
LOCATION:Andrews Library CoRE Cube\, Andrews Library\, Wooster\, Ohio\, Uni
 ted States
GEO:40.8050565;-81.93514299999998
X-APPLE-STRUCTURED-LOCATION;VALUE=URI;X-ADDRESS=Andrews Library\, Wooster\,
  Ohio\, United States;X-APPLE-RADIUS=100;X-TITLE=Andrews Library CoRE Cube
 :geo:40.8050565,-81.93514299999998
END:VEVENT
BEGIN:VTIMEZONE
TZID:America/New_York
X-LIC-LOCATION:America/New_York
BEGIN:STANDARD
DTSTART:20251102T010000
TZOFFSETFROM:-0400
TZOFFSETTO:-0500
TZNAME:EST
END:STANDARD
END:VTIMEZONE
END:VCALENDAR